BEGIN:VCALENDAR
VERSION:2.0
PRODID:-//Keystone Conference - ECPv6.15.17.1//NONSGML v1.0//EN
CALSCALE:GREGORIAN
METHOD:PUBLISH
X-WR-CALNAME:Keystone Conference
X-ORIGINAL-URL:https://keystoneucc.org
X-WR-CALDESC:Events for Keystone Conference
REFRESH-INTERVAL;VALUE=DURATION:PT1H
X-Robots-Tag:noindex
X-PUBLISHED-TTL:PT1H
BEGIN:VTIMEZONE
TZID:America/New_York
BEGIN:DAYLIGHT
TZOFFSETFROM:-0500
TZOFFSETTO:-0400
TZNAME:EDT
DTSTART:20250309T070000
END:DAYLIGHT
BEGIN:STANDARD
TZOFFSETFROM:-0400
TZOFFSETTO:-0500
TZNAME:EST
DTSTART:20251102T060000
END:STANDARD
BEGIN:DAYLIGHT
TZOFFSETFROM:-0500
TZOFFSETTO:-0400
TZNAME:EDT
DTSTART:20260308T070000
END:DAYLIGHT
BEGIN:STANDARD
TZOFFSETFROM:-0400
TZOFFSETTO:-0500
TZNAME:EST
DTSTART:20261101T060000
END:STANDARD
BEGIN:DAYLIGHT
TZOFFSETFROM:-0500
TZOFFSETTO:-0400
TZNAME:EDT
DTSTART:20270314T070000
END:DAYLIGHT
BEGIN:STANDARD
TZOFFSETFROM:-0400
TZOFFSETTO:-0500
TZNAME:EST
DTSTART:20271107T060000
END:STANDARD
END:VTIMEZONE
BEGIN:VEVENT
DTSTART;TZID=America/New_York:20260224T190000
DTEND;TZID=America/New_York:20260224T203000
DTSTAMP:20260422T132941
CREATED:20260202T184901Z
LAST-MODIFIED:20260202T184901Z
UID:10000047-1771959600-1771965000@keystoneucc.org
SUMMARY:Spirit on Tap: "Unholy Alliance: An Overview of Christian Nationalism in America"
DESCRIPTION:Spirit on Tap: “Unholy Alliance: An Overview of Christian Nationalism in America” \nThe Rev. Dr. Stephen Ohnsman \nWhile America did not invent Christian Nationalism\, we have done our best to make sure it is deeply embedded in our culture. Steve Ohnsman will talk about some of the history and the realities of how we struggle to practice our faith and maintain the Constitution’s implied separation between government and religion. \nSpirit on Tap’s purpose is to encourage theological discussion\, explore alternative views\, and stimulate dialouge around issues of faith\, spirituality\, and social justice. There is no charge\, and all are welcome. Spirit on Tap is supported by your generous donations. \nCalvary United Church of Christ\, 640 Centre Ave. Reading\, PA
URL:https://keystoneucc.org/event/spirit-on-tap-unholy-alliance-an-overview-of-christian-nationalism-in-america/
LOCATION:Calvary UCC\, Reading\, 640 Centre Ave\, Reading\, PA\, 19601\, United States
CATEGORIES:Region 1
END:VEVENT
BEGIN:VEVENT
DTSTART;TZID=America/New_York:20260224T190000
DTEND;TZID=America/New_York:20260224T203000
DTSTAMP:20260422T132941
CREATED:20260110T170513Z
LAST-MODIFIED:20260110T170513Z
UID:10000024-1771959600-1771965000@keystoneucc.org
SUMMARY:Keystone Online Lenten Series: The Transforming Power of Forgiveness with Rev. Scott Hutchinson
DESCRIPTION:Tuesdays\, Feb. 24\, March 3 & 10\, 2026 \n7:00pm – 8:30pm \nForgiveness is the way God’s love gives ultimate definition to our lives.   \nIn this series we will explore the textures and substance of forgiveness\, immersing ourselves in dynamic gospel stories that will claim us and call forth stories of our own.  Through our learning\, we will explore forgiveness’ transforming power for ourselves\, our relationships\, our faith communities\, and the world that God so loves.  We will learn steps to forgiving someone else\, and even more\, we will be challenged to allow ourselves to be forgiven.  This is life-changing territory. Participants can expect something new to happen. \nReverend Scott Hutchinson pastored UCC congregations in Pennsylvania for 34 years.  His life and ministry embrace the power of forgiveness\, peacebuilding\, and tending the soul wounds of war.  Scott is principal of The Forgiveness Lab\, co-founder of the COMPASS Healing Circle\, and author of Living Scriptures. \nThis series is open to lay people and clergy of the Keystone Conference. \nRegistration is required with a fee of $30 for the online series. Registrants will receive a Zoom link that covers all three sessions. \nSessions will include breakout rooms for small group discussions. No separate registration for individual sessions. \nFor Authorized Ministers this series will count as 6 hours of Continuing Education. \nRegister here.
URL:https://keystoneucc.org/event/keystone-online-lenten-series-the-transforming-power-of-forgiveness-with-rev-scott-hutchinson/
LOCATION:PA
CATEGORIES:Continuing Education
END:VEVENT
BEGIN:VEVENT
DTSTART;TZID=America/New_York:20260222T150000
DTEND;TZID=America/New_York:20260222T170000
DTSTAMP:20260422T132941
CREATED:20260203T181027Z
LAST-MODIFIED:20260203T181027Z
UID:10000049-1771772400-1771779600@keystoneucc.org
SUMMARY:Installation Service - Rev. Regina Holliday at Amity Reformed UCC\, Meyersdale
DESCRIPTION:Somerset Association
URL:https://keystoneucc.org/event/installation-service-rev-regina-holliday-at-amity-reformed-ucc-meyersdale/
LOCATION:Amity Reformed UCC\, Meyersdale\, Corner Center and North Streets\, Meyersdale\, PA\, 15552\, United States
CATEGORIES:Installation,Region 3
END:VEVENT
BEGIN:VEVENT
DTSTART;TZID=America/New_York:20260222T140000
DTEND;TZID=America/New_York:20260222T160000
DTSTAMP:20260422T132941
CREATED:20260203T181206Z
LAST-MODIFIED:20260203T181206Z
UID:10000050-1771768800-1771776000@keystoneucc.org
SUMMARY:Ecclesiastical Council - Diane Kinley
DESCRIPTION:Northern Association
URL:https://keystoneucc.org/event/ecclesiastical-council-diane-kinley/
LOCATION:St. John’s UCC\, Bellefonte\, 145 W Linn St\, Bellefonte\, PA\, 16823\, United States
CATEGORIES:Installation,Region 3
END:VEVENT
BEGIN:VEVENT
DTSTART;TZID=America/New_York:20260219T173000
DTEND;TZID=America/New_York:20260219T203000
DTSTAMP:20260422T132941
CREATED:20260107T185218Z
LAST-MODIFIED:20260108T190439Z
UID:10000018-1771522200-1771533000@keystoneucc.org
SUMMARY:Advanced Boundary Training: Clergy Boundaries with Artificial Intelligence: Uses and Misuses
DESCRIPTION:Credit hours: 3\n5:30PM -8:30PM\nTransitional Regional Conference Minister\, the Rev. Kevin McLemore\, will lead a workshop exploring the ways that artificial intelligence is affecting ministry in our churches\, including the practical uses and the potential misuses of it. After a brief explanation of various AI engines\, the workshop will show how it could help with sermon writing\, Bible and workshop development\, and project planning within our churches. Examples will be shared\, and small groups will discuss the ethical implications and boundary-setting needed for using AI in ministry. \nRegister here.
URL:https://keystoneucc.org/event/advanced-boundary-training-clergy-boundaries-with-artificial-intelligence-uses-and-misuses-2/
LOCATION:
CATEGORIES:Continuing Education
END:VEVENT
BEGIN:VEVENT
DTSTART;TZID=America/New_York:20260219T130000
DTEND;TZID=America/New_York:20260219T140000
DTSTAMP:20260422T132941
CREATED:20260123T163813Z
LAST-MODIFIED:20260123T163813Z
UID:10000031-1771506000-1771509600@keystoneucc.org
SUMMARY:Keystone Global Ministries Team
DESCRIPTION:Via Zoom – for Zoom information contact julie@bvfof.org
URL:https://keystoneucc.org/event/keystone-global-ministries-team/
LOCATION:PA
CATEGORIES:Keystone Conference
END:VEVENT
BEGIN:VEVENT
DTSTART;TZID=America/New_York:20260219T090000
DTEND;TZID=America/New_York:20260219T120000
DTSTAMP:20260422T132941
CREATED:20260107T184857Z
LAST-MODIFIED:20260108T190324Z
UID:10000017-1771491600-1771502400@keystoneucc.org
SUMMARY:Advanced Boundary Training: Clergy Boundaries with Artificial Intelligence: Uses and Misuses
DESCRIPTION:Credit hours: 3\n9AM – Noon\nTransitional Regional Conference Minister\, the Rev. Kevin McLemore\, will lead a workshop exploring the ways that artificial intelligence is affecting ministry in our churches\, including the practical uses and the potential misuses of it. After a brief explanation of various AI engines\, the workshop will show how it could help with sermon writing\, Bible and workshop development\, and project planning within our churches. Examples will be shared\, and small groups will discuss the ethical implications and boundary-setting needed for using AI in ministry. \nRegister here.
URL:https://keystoneucc.org/event/advanced-boundary-training-clergy-boundaries-with-artificial-intelligence-uses-and-misuses/
LOCATION:
CATEGORIES:Continuing Education
END:VEVENT
END:VCALENDAR