BEGIN:VCALENDAR
VERSION:2.0
PRODID:-//Keystone Conference - ECPv6.15.17.1//NONSGML v1.0//EN
CALSCALE:GREGORIAN
METHOD:PUBLISH
X-WR-CALNAME:Keystone Conference
X-ORIGINAL-URL:https://keystoneucc.org
X-WR-CALDESC:Events for Keystone Conference
REFRESH-INTERVAL;VALUE=DURATION:PT1H
X-Robots-Tag:noindex
X-PUBLISHED-TTL:PT1H
BEGIN:VTIMEZONE
TZID:America/New_York
BEGIN:DAYLIGHT
TZOFFSETFROM:-0500
TZOFFSETTO:-0400
TZNAME:EDT
DTSTART:20250309T070000
END:DAYLIGHT
BEGIN:STANDARD
TZOFFSETFROM:-0400
TZOFFSETTO:-0500
TZNAME:EST
DTSTART:20251102T060000
END:STANDARD
BEGIN:DAYLIGHT
TZOFFSETFROM:-0500
TZOFFSETTO:-0400
TZNAME:EDT
DTSTART:20260308T070000
END:DAYLIGHT
BEGIN:STANDARD
TZOFFSETFROM:-0400
TZOFFSETTO:-0500
TZNAME:EST
DTSTART:20261101T060000
END:STANDARD
BEGIN:DAYLIGHT
TZOFFSETFROM:-0500
TZOFFSETTO:-0400
TZNAME:EDT
DTSTART:20270314T070000
END:DAYLIGHT
BEGIN:STANDARD
TZOFFSETFROM:-0400
TZOFFSETTO:-0500
TZNAME:EST
DTSTART:20271107T060000
END:STANDARD
END:VTIMEZONE
BEGIN:VEVENT
DTSTART;TZID=America/New_York:20260423T173000
DTEND;TZID=America/New_York:20260423T190000
DTSTAMP:20260422T072537
CREATED:20260320T172921Z
LAST-MODIFIED:20260320T172921Z
UID:10000075-1776965400-1776970800@keystoneucc.org
SUMMARY:Team Up for Racial Justice
DESCRIPTION:Folks with a passion for racial justice from across the conference are invited to come dream with us about how much we can do together! RSVP with the link below to receive the Zoom link for this visioning and planning meeting. \nhttps://tinyurl.com/4kzfu3nd
URL:https://keystoneucc.org/event/team-up-for-racial-justice/
LOCATION:
CATEGORIES:Keystone Conference
END:VEVENT
BEGIN:VEVENT
DTSTART;VALUE=DATE:20260426
DTEND;VALUE=DATE:20260427
DTSTAMP:20260422T072537
CREATED:20260218T190157Z
LAST-MODIFIED:20260218T190157Z
UID:10000056-1777161600-1777247999@keystoneucc.org
SUMMARY:Covenant Association Spring Meeting
DESCRIPTION:St. John (Gernant’s) Church in Leesport
URL:https://keystoneucc.org/event/covenant-association-spring-meeting/
LOCATION:St. John’s (Gernant’s) Church\, 13 Gernant's Church Rd.\, Leesport\, PA\, 19533\, United States
CATEGORIES:Association Event,Region 1
END:VEVENT
BEGIN:VEVENT
DTSTART;TZID=America/New_York:20260426T140000
DTEND;TZID=America/New_York:20260426T170000
DTSTAMP:20260422T072537
CREATED:20260302T164252Z
LAST-MODIFIED:20260305T154050Z
UID:10000065-1777212000-1777222800@keystoneucc.org
SUMMARY:Healthy Congregations: Equipping Lay Leaders for Such a Time as This
DESCRIPTION:Who is God calling you and your church to be? This online workshop will help us name together how God is calling us in these times\, and reflect on the relationships that exist within your congregation. This includes relationships between congregants\, pastor\, and church leadership. We will explore ways in which healthy boundaries and healthy communication practices can enhance your church’s work and witness to the world. \nRev. Tara Barber has been serving as your Minister for Ministerial Support and Accountability for six years. She comes to this work as a lifelong Pacific NW UCCer\, camper\, and engaged lay leader\, who participated in wider church ministries as a teenager and young adult\, and later as a Youth Leader and companion to older adults. Ordained in 2001\, she served as an Associate Pastor in Northern California and co-pastor in the Pacific NW\, before turning her focus back to the wider church\, working with COMs\, developing a COP program\, teaching Boundary Trainings and consulting around Intercultural Compassion locally and beyond the PNC. Continuing this work in her role on the MESA team\, she works from her home in Seattle\, gathering with family and venturing to the beach as often as possible \nRegister here: https://healthycongregations.eventbrite.com\n(Please note – after hitting the register button\, you are not done.  Additional questions will follow.)
URL:https://keystoneucc.org/event/healthy-congregations-equipping-lay-leaders-for-such-a-time-as-this/
LOCATION:
CATEGORIES:Keystone Conference
END:VEVENT
BEGIN:VEVENT
DTSTART;TZID=America/New_York:20260428T190000
DTEND;TZID=America/New_York:20260428T203000
DTSTAMP:20260422T072537
CREATED:20260324T203144Z
LAST-MODIFIED:20260416T183836Z
UID:10000079-1777402800-1777408200@keystoneucc.org
SUMMARY:The Spirit of Religious and Civic Freedom in the Revolutionary Era
DESCRIPTION:“The Spirit of Religious and Civic Freedom in the Revolutionary Era.” \nwith Dr. Randall Zachman \nTuesdays\, April 21\, 28\, and May 5\, from 7-8:15 p.m. on Zoom. \nThis three-week series will explore the ways the quest for religious freedom influenced the pursuit of civic freedom during the revolutionary era in the American colonies. We will begin by looking at the arguments for religious freedom in Roger Williams and William Penn\, over against the involvement of the state in religious life during their times. We will then turn to the ways in which religious and civic freedom were seen to be inseparable in the sermons of Jonathan Mayhew and John Witherspoon\, so that a nation cannot have one without the other. We will conclude by hearing from the first four US presidents regarding their conviction that the constitutional project of civic freedom can only succeed if the American people remain both moral and religious\, without the government sponsoring religion. Short selections of primary source readings will be provided for each session. \nThere is no registration fee\, but you must register to receive the Zoom link for the series. \nThis series will have suggested reading between sessions. \nThis series will be counted as 6 hours of Continuing Education for authorized ministers in the Keystone Conference.
URL:https://keystoneucc.org/event/the-spirit-of-religious-and-civic-freedom-in-the-revolutionary-era/2026-04-28/
LOCATION:
CATEGORIES:Continuing Education
END:VEVENT
END:VCALENDAR