BEGIN:VCALENDAR
VERSION:2.0
PRODID:-//Keystone Conference - ECPv6.15.17.1//NONSGML v1.0//EN
CALSCALE:GREGORIAN
METHOD:PUBLISH
X-WR-CALNAME:Keystone Conference
X-ORIGINAL-URL:https://keystoneucc.org
X-WR-CALDESC:Events for Keystone Conference
REFRESH-INTERVAL;VALUE=DURATION:PT1H
X-Robots-Tag:noindex
X-PUBLISHED-TTL:PT1H
BEGIN:VTIMEZONE
TZID:America/New_York
BEGIN:DAYLIGHT
TZOFFSETFROM:-0500
TZOFFSETTO:-0400
TZNAME:EDT
DTSTART:20250309T070000
END:DAYLIGHT
BEGIN:STANDARD
TZOFFSETFROM:-0400
TZOFFSETTO:-0500
TZNAME:EST
DTSTART:20251102T060000
END:STANDARD
BEGIN:DAYLIGHT
TZOFFSETFROM:-0500
TZOFFSETTO:-0400
TZNAME:EDT
DTSTART:20260308T070000
END:DAYLIGHT
BEGIN:STANDARD
TZOFFSETFROM:-0400
TZOFFSETTO:-0500
TZNAME:EST
DTSTART:20261101T060000
END:STANDARD
BEGIN:DAYLIGHT
TZOFFSETFROM:-0500
TZOFFSETTO:-0400
TZNAME:EDT
DTSTART:20270314T070000
END:DAYLIGHT
BEGIN:STANDARD
TZOFFSETFROM:-0400
TZOFFSETTO:-0500
TZNAME:EST
DTSTART:20271107T060000
END:STANDARD
END:VTIMEZONE
BEGIN:VEVENT
DTSTART;TZID=America/New_York:20260303T190000
DTEND;TZID=America/New_York:20260303T210000
DTSTAMP:20260425T070747
CREATED:20260205T163535Z
LAST-MODIFIED:20260205T163535Z
UID:10000051-1772564400-1772571600@keystoneucc.org
SUMMARY:Theology with a Twist: "From Her Own Means: The Women Who Bankrolled the Gospel"
DESCRIPTION:As those who lead churches today know\, the economic life of a church is as necessary to sustain as its spiritual life. The early Jesus movement and Paul’s groups also required material sustenance to operate. How did these groups support themselves financially? If we look closely\, there are several women who are named in our New Testament sources as financial sponsors of the Gospel: Phoebe\, Lydia\, Mary Magdalene\, Susanna\, and others. Join us as we dig into the ways women appear\, again and again\, across early Christian writings as the primary investors in the Gospel. \nDr. Brigidda Zapata is Assistant Professor of New Testament at Moravian Theological Seminary. She holds a BA\, MA\, and PhD from the University of Toronto. Her research examines how people in the ancient world understood the divine to permeate into everyday life. Recently\, she has been writing about the role of New Testament women in ritual life\, both as participants and sponsors. \nTheology with a Twist meets at the Kutztown Tavern at 272 W Main St\, Kutztown\, PA 19530. We gather in the upper room of the tavern the first Tuesday of each month at 7pm for a time of learning and discussion about a variety of spiritual\, religious\, and theological topics presented by local experts in their field. The event is free but food and drink can be purchased in the restaurant downstairs and brought up to our event space. Parking is available in the community lot behind the tavern or on Main Street. All are welcome!
URL:https://keystoneucc.org/event/theology-with-a-twist-from-her-own-means-the-women-who-bankrolled-the-gospel/
LOCATION:Kutztown Tavern\, 272 W Main St\, Kutztown\, PA\, 19530\, United States
CATEGORIES:Region 1
END:VEVENT
END:VCALENDAR