BEGIN:VCALENDAR
VERSION:2.0
PRODID:-//Keystone Conference - ECPv6.15.17.1//NONSGML v1.0//EN
CALSCALE:GREGORIAN
METHOD:PUBLISH
X-WR-CALNAME:Keystone Conference
X-ORIGINAL-URL:https://keystoneucc.org
X-WR-CALDESC:Events for Keystone Conference
REFRESH-INTERVAL;VALUE=DURATION:PT1H
X-Robots-Tag:noindex
X-PUBLISHED-TTL:PT1H
BEGIN:VTIMEZONE
TZID:America/New_York
BEGIN:DAYLIGHT
TZOFFSETFROM:-0500
TZOFFSETTO:-0400
TZNAME:EDT
DTSTART:20250309T070000
END:DAYLIGHT
BEGIN:STANDARD
TZOFFSETFROM:-0400
TZOFFSETTO:-0500
TZNAME:EST
DTSTART:20251102T060000
END:STANDARD
BEGIN:DAYLIGHT
TZOFFSETFROM:-0500
TZOFFSETTO:-0400
TZNAME:EDT
DTSTART:20260308T070000
END:DAYLIGHT
BEGIN:STANDARD
TZOFFSETFROM:-0400
TZOFFSETTO:-0500
TZNAME:EST
DTSTART:20261101T060000
END:STANDARD
BEGIN:DAYLIGHT
TZOFFSETFROM:-0500
TZOFFSETTO:-0400
TZNAME:EDT
DTSTART:20270314T070000
END:DAYLIGHT
BEGIN:STANDARD
TZOFFSETFROM:-0400
TZOFFSETTO:-0500
TZNAME:EST
DTSTART:20271107T060000
END:STANDARD
END:VTIMEZONE
BEGIN:VEVENT
DTSTART;TZID=America/New_York:20260317T093000
DTEND;TZID=America/New_York:20260317T110000
DTSTAMP:20260422T172015
CREATED:20260224T203614Z
LAST-MODIFIED:20260224T203614Z
UID:10000062-1773739800-1773745200@keystoneucc.org
SUMMARY:Soul Cafe - "Eternal Life: The Soul and Its Afterlife"
DESCRIPTION:“Eternal Life: The Soul and Its Afterlife” \nDr. Nancy Omaha Boy \nLife is eternal. We know that\, but we rarely think about what that means. Fortunately\, we live in a time where prophets and researchers have a lot to tell us. Your understanding of your future may surprise and reassure you! \nDr. Nancy Omaha Boy is the former vice president of Academic Affairs at Reading Area Community College and retired Director of the Teaching Excellence Center and associate dean at Rutgers University. She is also a graduate of All Faiths Seminary International in NYC. Her late husband was a full-blooded Lakota Indian\, and she lived on Rosebud Reservation in South Dakota from 1970 to 1981. \nSoul Cafe is a “coffee house” type of discussion on matters of general interest. There is no charge\, and all are welcome. Soul Cafe is supported by your generous donations. For more information\, contact Dr. Harry L. Serio at hlserio@aol.com
URL:https://keystoneucc.org/event/soul-cafe-eternal-life-the-soul-and-its-afterlife/
LOCATION:West Lawn United Methodist Church\, 15 Woodside Avenue\, Reading\, PA\, 19609\, United States
CATEGORIES:Region 1
END:VEVENT
END:VCALENDAR